BEGIN:VCALENDAR
VERSION:2.0
PRODID:-//Stinchcombe Parish Council//Meeting Calendar//EN
CALSCALE:GREGORIAN
METHOD:PUBLISH
BEGIN:VEVENT
UID:70954-20251008@stinchcombeparishcouncil.gov.uk
DTSTAMP:20260424T151803Z
DTSTART;VALUE=DATE:20251008
DTEND;VALUE=DATE:20251009
SUMMARY:October 2025
DESCRIPTION:Full Council Meeting\nView details: https://stinchcombeparishcouncil.gov.uk/meetings/october-2025/
URL:https://stinchcombeparishcouncil.gov.uk/meetings/october-2025/
END:VEVENT
END:VCALENDAR
