BEGIN:VCALENDAR
VERSION:2.0
PRODID:-//Stinchcombe Parish Council//Meeting Calendar//EN
CALSCALE:GREGORIAN
METHOD:PUBLISH
BEGIN:VEVENT
UID:70955-20251112@stinchcombeparishcouncil.gov.uk
DTSTAMP:20260424T134302Z
DTSTART;VALUE=DATE:20251112
DTEND;VALUE=DATE:20251113
SUMMARY:November 2025
DESCRIPTION:Full Council Meeting\nView details: https://stinchcombeparishcouncil.gov.uk/meetings/november-2025/
URL:https://stinchcombeparishcouncil.gov.uk/meetings/november-2025/
END:VEVENT
END:VCALENDAR
