BEGIN:VCALENDAR
VERSION:2.0
PRODID:-//Stinchcombe Parish Council//Meeting Calendar//EN
CALSCALE:GREGORIAN
METHOD:PUBLISH
BEGIN:VEVENT
UID:70956-20251210@stinchcombeparishcouncil.gov.uk
DTSTAMP:20260424T120547Z
DTSTART;VALUE=DATE:20251210
DTEND;VALUE=DATE:20251211
SUMMARY:December 2025
DESCRIPTION:Full Council Meeting\nView details: https://stinchcombeparishcouncil.gov.uk/meetings/december-2025/
URL:https://stinchcombeparishcouncil.gov.uk/meetings/december-2025/
END:VEVENT
END:VCALENDAR
