BEGIN:VCALENDAR
VERSION:2.0
PRODID:-//Stinchcombe Parish Council//Meeting Calendar//EN
CALSCALE:GREGORIAN
METHOD:PUBLISH
BEGIN:VEVENT
UID:71029-20260211@stinchcombeparishcouncil.gov.uk
DTSTAMP:20260422T082813Z
DTSTART;VALUE=DATE:20260211
DTEND;VALUE=DATE:20260212
SUMMARY:February 2026
DESCRIPTION:Full Council Meeting\nView details: https://stinchcombeparishcouncil.gov.uk/meetings/february-2026/
URL:https://stinchcombeparishcouncil.gov.uk/meetings/february-2026/
END:VEVENT
END:VCALENDAR
