BEGIN:VCALENDAR
VERSION:2.0
PRODID:-//Stinchcombe Parish Council//Meeting Calendar//EN
CALSCALE:GREGORIAN
METHOD:PUBLISH
BEGIN:VEVENT
UID:71030-20260311@stinchcombeparishcouncil.gov.uk
DTSTAMP:20260422T082613Z
DTSTART;VALUE=DATE:20260311
DTEND;VALUE=DATE:20260312
SUMMARY:11th March 2026 &#8211\\; 8pm &#8211\\; Full Council Meeting
DESCRIPTION:Full Council Meeting\nView details: https://stinchcombeparishcouncil.gov.uk/meetings/march-2026/
URL:https://stinchcombeparishcouncil.gov.uk/meetings/march-2026/
END:VEVENT
END:VCALENDAR
